BEGIN:VCALENDAR
VERSION:2.0
PRODID:-//hacksw/handcal//NONSGML v1.0//EN
BEGIN:VEVENT
SUMMARY:Swissball, gym douce-stretching, retour a l'activite physique, gym douce
UID:23ae95b5-0b46-41a6-b5af-92747065e1ec
DTSTART:20260415T220000Z
DTEND:20260416T220000Z
LOCATION:Localisation   
CATEGORIES:Sportif
STATUS:
DESCRIPTION:<p>Les cours sont assures par Baptiste, educateur
 sportif.</p>
 
 <p><strong><span style="font-size:10pt;">Planning des
 cours collectifs et tarifs</span></strong> :  <strong><a
 href="https://www.muscufitnesspaimpol.fr/saison-2025-2026/documents"
 target="_blank" rel="noreferrer noopener"><font color="#ff0000"><span
 style="font-size:10pt;">c'est
 ici</span></font></a></strong></p>
 
 <p> </p>
URL;VALUE=URI:https://www.muscufitnesspaimpol.fr/evenements/2026/04/16/swissball-gym-douce-stretching-retour-a-lactivite-physique-gym-douce-2438859
END:VEVENT
END:VCALENDAR
