BEGIN:VCALENDAR
VERSION:2.0
PRODID:-//hacksw/handcal//NONSGML v1.0//EN
BEGIN:VEVENT
SUMMARY:Cicuit training, Pilates, Cross Training
UID:1cffeb6d-3701-45c3-9018-21373109967d
DTSTART:20260420T220000Z
DTEND:20260421T220000Z
LOCATION:Localisation   
CATEGORIES:Sportif
STATUS:
DESCRIPTION:<p>Les cours sont assures par Gwendolinn, educatrice
 sportive.</p>
 
 <p><strong>Planning des cours collectifs et tarifs :
 <a
 href="https://www.muscufitnesspaimpol.fr/saison-2025-2026/documents"
 target="_blank" rel="noreferrer noopener"><span
 style="color:#ff0000;">c'est ici</span></a></strong></p>
 
 <p> </p>
URL;VALUE=URI:https://www.muscufitnesspaimpol.fr/evenements/2026/04/21/cicuit-training-pilates-cross-training-2438843
END:VEVENT
END:VCALENDAR
