BEGIN:VCALENDAR
VERSION:2.0
PRODID:-//hacksw/handcal//NONSGML v1.0//EN
BEGIN:VEVENT
SUMMARY:Marche en groupe a 14h
UID:e2ef43cc-1da5-4f7a-91fa-1963d7ae2bb0
DTSTART:20260420T220000Z
DTEND:20260421T220000Z
LOCATION:Localisation   
CATEGORIES:Sportif
STATUS:
DESCRIPTION:<p>Ceux ou celles qui le souhaitent peuvent se retrouver
 a la salle du CMP pour une marche en groupe (depart 14h).</p>
URL;VALUE=URI:https://www.muscufitnesspaimpol.fr/evenements/2026/04/21/marche-en-groupe-a-14h-2438850
END:VEVENT
END:VCALENDAR
