BEGIN:VCALENDAR
VERSION:2.0
PRODID:-//hacksw/handcal//NONSGML v1.0//EN
BEGIN:VEVENT
SUMMARY:Fete du sport au stade de Kerraoul
UID:7ad213a8-7465-4c5f-8732-33f163949cd4
DTSTART:20260516T220000Z
DTEND:20260517T220000Z
LOCATION:Localisation   
CATEGORIES:Sportif
STATUS:
DESCRIPTION:<p>Le CMP sera present pour proposer aux familles des
 activites et jeux sportifs,<span style="color:#27ae60;"><strong>
 <span style="font-size:14px;">mais aurait besoin d’aide pour
 relayer les membres du bureau qui s’investissent deja beaucoup pour
 l’association</span></strong><span style="font-size:14px;">
 :</span></span></p>
 
 <ul>
 	<li>monter le materiel du club a
 9h,</li>
 	<li>se relayer,</li>
 	<li>surveiller le materiel le
 midi,</li>
 	<li>animer si le cœur vous en dit,</li>
 	<li>redescendre
 et nettoyer le materiel en fin de journee.</li>
 </ul>
 
 <p>C'est aussi
 l’occasion de se rencontrer dans d’autres
 circonstances.</p>
 
 <p>Un tableau pour indiquer le creneau de votre
 presence est sur le bureau du CMP. Merci d’avance pour votre aide
 !</p>
URL;VALUE=URI:https://www.muscufitnesspaimpol.fr/evenements/2026/05/17/fete-du-sport-au-stade-de-kerraoul-2438887
END:VEVENT
END:VCALENDAR
